BEGIN:VCALENDAR
VERSION:2.0
PRODID:-//Genèveroule - ECPv6.15.20//NONSGML v1.0//EN
CALSCALE:GREGORIAN
METHOD:PUBLISH
X-ORIGINAL-URL:https://www.geneveroule.ch/fr/
X-WR-CALDESC:Évènements pour Genèveroule
REFRESH-INTERVAL;VALUE=DURATION:PT1H
X-Robots-Tag:noindex
X-PUBLISHED-TTL:PT1H
BEGIN:VTIMEZONE
TZID:Europe/Zurich
BEGIN:DAYLIGHT
TZOFFSETFROM:+0100
TZOFFSETTO:+0200
TZNAME:CEST
DTSTART:20230326T010000
END:DAYLIGHT
BEGIN:STANDARD
TZOFFSETFROM:+0200
TZOFFSETTO:+0100
TZNAME:CET
DTSTART:20231029T010000
END:STANDARD
BEGIN:DAYLIGHT
TZOFFSETFROM:+0100
TZOFFSETTO:+0200
TZNAME:CEST
DTSTART:20240331T010000
END:DAYLIGHT
BEGIN:STANDARD
TZOFFSETFROM:+0200
TZOFFSETTO:+0100
TZNAME:CET
DTSTART:20241027T010000
END:STANDARD
BEGIN:DAYLIGHT
TZOFFSETFROM:+0100
TZOFFSETTO:+0200
TZNAME:CEST
DTSTART:20250330T010000
END:DAYLIGHT
BEGIN:STANDARD
TZOFFSETFROM:+0200
TZOFFSETTO:+0100
TZNAME:CET
DTSTART:20251026T010000
END:STANDARD
END:VTIMEZONE
BEGIN:VEVENT
DTSTART;TZID=Europe/Zurich:20241108T100000
DTEND;TZID=Europe/Zurich:20241110T200000
DTSTAMP:20260421T122633
CREATED:20240917T134404Z
LAST-MODIFIED:20240917T134404Z
UID:59905-1731060000-1731268800@www.geneveroule.ch
SUMMARY:Salon du vélo 2024
DESCRIPTION:Le salon du vélo et de la mobilité vous invite à explorer et tester les solutions durables pour vous déplacer. \n\n\n\n\n\n\n\n\n\n\nVenez découvrir les dernières innovations et rencontrer les acteurs-trices passionné-e-s qui façonnent la mobilité de demain. Que vous soyez amateur-trice de vélo\, un-e adepte des nouvelles technologies ou simplement curieux-se\, le salon du vélo et de la mobilité vous invite à explorer et tester les solutions durables pour vous déplacer.\n\nNous nous réjouissons de vous accueillir à notre stand !
URL:https://www.geneveroule.ch/fr/activite/salon-du-velo-2024/
LOCATION:Palexpo\, Rte François-Peyrot 30\, Le Grand-Saconnex\, 1218
ATTACH;FMTTYPE=image/png:https://www.geneveroule.ch/wp-content/uploads/2024/09/Salon-velo-2024.png
END:VEVENT
END:VCALENDAR